BEGIN:VCALENDAR
VERSION:2.0
PRODID:-//hacksw/handcal//NONSGML v1.0//EN
BEGIN:VEVENT
DTSTAMP:20230630T233000Z
DTSTART:20230630T233000Z
DTEND:20230701T013000Z

SUMMARY:R&B Music Experience NY
DESCRIPTION:R&B Music Experience NY featuring Xscape, 112, Tevin Campbell, Mýa, Silk, Ginuwine, Next, H-Town, Funkmaster Flex, JusNik & hosted by DJ AONE* comes to Brooklyn on Friday, June 30.*Lineup is subject to change without notice.
END:VEVENT
END:VCALENDAR