BEGIN:VCALENDAR
VERSION:2.0
PRODID:-//hacksw/handcal//NONSGML v1.0//EN
BEGIN:VEVENT
DTSTAMP:20250831T000000Z
DTSTART:20250831T000000Z
DTEND:20250831T020000Z

SUMMARY:Reggae Fest Massive
DESCRIPTION:Reggae Fest Massive featuring Bounty Killer, Capleton, Shenseea, Alkaline, Elephant Man, Mr. Vegas, T.O.K, Tony Matterhorn, Tanto Metro & Devonte & more* comes to Brooklyn on Saturday, August 30.*Lineup subject to change without notice.
END:VEVENT
END:VCALENDAR