BEGIN:VCALENDAR
VERSION:2.0
PRODID:-//hacksw/handcal//NONSGML v1.0//EN
BEGIN:VEVENT
DTSTAMP:20230617T000000Z
DTSTART:20230617T000000Z
DTEND:20230617T020000Z

SUMMARY:Reggae Love Fest 
DESCRIPTION:Reggae Love Fest featuring Shabba Ranks, Capleton, Barrington Levy, Patra, Elephant Man, Mad Cobra, Yellow Man, Mad Lion, Little Vicious, Notch, Bobby Konders and Jabba & DJ Ted Smooth* comes to Brooklyn on Friday, June 16.*Lineup is subject to change without notice.
END:VEVENT
END:VCALENDAR