BEGIN:VCALENDAR
VERSION:2.0
PRODID:-//hacksw/handcal//NONSGML v1.0//EN
BEGIN:VEVENT
DTSTAMP:20241207T030000Z
DTSTART:20241207T030000Z
DTEND:20241207T060000Z

SUMMARY:Cancelled: Shakira
DESCRIPTION:The Shakira concerts scheduled for Thursday, December 5 & Friday, December 6 have been cancelled.You will be refunded automatically. For more information, please contact your point of purchase.
END:VEVENT
END:VCALENDAR