BEGIN:VCALENDAR
VERSION:2.0
PRODID:-//hacksw/handcal//NONSGML v1.0//EN
BEGIN:VEVENT
DTSTAMP:20220819T233000Z
DTSTART:20220819T233000Z
DTEND:20220820T013000Z

SUMMARY:Shawn Mendes: Cancelled  
DESCRIPTION:Shawn Mendes&#39; performances on August 19 & 20 have been cancelled. You will be refunded automatically. For more information, please contact your point of purchase.To view our health and safety protocols, click here.
END:VEVENT
END:VCALENDAR