BEGIN:VCALENDAR
VERSION:2.0
PRODID:-//hacksw/handcal//NONSGML v1.0//EN
BEGIN:VEVENT
DTSTAMP:20240302T003000Z
DTSTART:20240302T003000Z
DTEND:20240302T023000Z

SUMMARY:Subtronics
DESCRIPTION:Subtronics comes to Brooklyn with Wooli, Hedex, Saka, Jon Casey & Skellytn on Friday, March 1.
END:VEVENT
END:VCALENDAR