BEGIN:VCALENDAR
VERSION:2.0
PRODID:-//hacksw/handcal//NONSGML v1.0//EN
BEGIN:VEVENT
DTSTAMP:20261002T230000Z
DTSTART:20261002T230000Z
DTEND:20261003T010000Z

SUMMARY:Teddy Swims
DESCRIPTION:Teddy Swims brings The UGLY Tour with Freak Freely to Brooklyn on Friday, October 2.
END:VEVENT
END:VCALENDAR