BEGIN:VCALENDAR
VERSION:2.0
PRODID:-//hacksw/handcal//NONSGML v1.0//EN
BEGIN:VEVENT
DTSTAMP:20210925T010000Z
DTSTART:20210925T010000Z
DTEND:20210925T030000Z

SUMMARY:Fall Back Comedy Jam
DESCRIPTION:The Fall Back Comedy Jam comes to Brooklyn on Friday, September 24, 2021 featuring comedians Rip Micheals, Mo’nique, Jess Hilarious, Brandon T. Jackson, Arnez J, Lil Duval, Spanky Hayes, DC Young Fly, and Zoie Fenty, plus musical guests Busta Rhymes and 2 Chainz.This show was previous called April Fools Comedy Jam and was rescheduled from Friday, April 2, 2021. All tickets will be honored.To view our health and safety regulations, click here.
END:VEVENT
END:VCALENDAR