BEGIN:VCALENDAR
VERSION:2.0
PRODID:-//hacksw/handcal//NONSGML v1.0//EN
BEGIN:VEVENT
DTSTAMP:20121211T010000Z
DTSTART:20121211T010000Z
DTEND:20121211T040000Z

SUMMARY:The Smashing Pumpkins
DESCRIPTION:Leading up to their New York City show on Monday, December 10, THE SMASHING PUMPKINS and Barclays Center (where the band will be performing) have joined forces with the Brooklyn Recovery Fund to contribute to Hurricane Sandy relief efforts by offering the charity a portion of a specially priced $25 ticket available now at: http://www.ticketmaster.com/event/00004916E157C497.The Smashing Pumpkins concert has been rescheduled for Monday, December 10 at 8:00 p.m. at Barclays Center in Brooklyn. The original date, October 31, was cancelled due to Hurricane Sandy. Tickets from October 31 will be honored on December 10.
END:VEVENT
END:VCALENDAR