BEGIN:VCALENDAR
VERSION:2.0
PRODID:-//hacksw/handcal//NONSGML v1.0//EN
BEGIN:VEVENT
DTSTAMP:20151120T003000Z
DTSTART:20151120T003000Z
DTEND:20151120T033000Z

SUMMARY:The Weeknd
DESCRIPTION:The Weeknd Adds Second Performance on Thursday, November 19Grammy Award-nominated, multi-platinum selling artist The Weeknd is bringing The Madness Fall Tour to Barclays Center on November 18 & 19. The tour will support the genre-spanning artist&#39;s album, Beauty Behind The Madness.Tickets for both shows are on-sale and can be purchased online at ticketmaster.com , by calling 800-745-3000, or by visiting the American Express Box Office at Barclays Center.For information on individual suites to both concerts, please call 718-BK-SUITE.
END:VEVENT
END:VCALENDAR