BEGIN:VCALENDAR
VERSION:2.0
PRODID:-//hacksw/handcal//NONSGML v1.0//EN
BEGIN:VEVENT
DTSTAMP:20240817T223000Z
DTSTART:20240817T223000Z
DTEND:20240818T003000Z

SUMMARY:Thirty Seconds To Mars
DESCRIPTION:Thirty Seconds To Mars bring the Seasons World Tour 2024 with AFI, Poppy & KennyHoopla to Brooklyn on Saturday, August 17.
END:VEVENT
END:VCALENDAR