BEGIN:VCALENDAR
VERSION:2.0
PRODID:-//hacksw/handcal//NONSGML v1.0//EN
BEGIN:VEVENT
DTSTAMP:20140324T233000Z
DTSTART:20140324T233000Z
DTEND:20140325T023000Z

SUMMARY:WWE Monday Night RAW
DESCRIPTION:WWE Presents Monday Night RAW will be live at Barclays Center on Monday, March 24. WWE RAW returns to Brooklyn just two weeks before WrestleMania 30! The Undertaker has returned! What will unfold with both The Undertaker & Brock Lesnar both under the same roof live in Brooklyn?The Main Event will be a Tag Team Match: John Cena & Daniel Bryan vs. Bray Wyatt & Kane.WWE Superstars Randy Orton, Batista, Triple H & The Authority, The Big Show, Sheamus, The Shield, and many more will also be live at Barclays Center! *Card is subject to change.*  Tickets start at $20 and can be purchased online via Ticketmaster by visiting barclayscenter.com, www.ticketmaster.com or by calling 800-745-3000. Event Card adroll_adv_id = "4OSUPK2YDJCG3GUHV6ZPNX"; adroll_pix_id = "KP4DRZHCPRH4JJIAZMWWTG"; (function () { var oldonload = window.onload; window.onload = function(){    __adroll_loaded=true;    var scr = document.createElement("script");    var host = (("https:" == document.location.protocol) ? "https://s.adroll.com" : "http://a.adroll.com");    scr.setAttribute('async', 'true');    scr.type = "text/javascript";    scr.src = host + "/j/roundtrip.js";    ((document.getElementsByTagName('head') || [null])[0] ||     document.getElementsByTagName('script')[0].parentNode).appendChild(scr);    if(oldonload){oldonload()}}; }()); 
END:VEVENT
END:VCALENDAR