BEGIN:VCALENDAR
VERSION:2.0
PRODID:-//hacksw/handcal//NONSGML v1.0//EN
BEGIN:VEVENT
DTSTAMP:20170820T223000Z
DTSTART:20170820T223000Z
DTEND:20170821T003000Z

SUMMARY:WWE SummerSlam
DESCRIPTION:WWE’s biggest event of the summer, SummerSlam, returns to Brooklyn on Sunday, August 20. Don’t miss your chance to see WWE’s biggest stars live in action, including Brock Lesnar, Roman Reigns, Samoa Joe, Braun Strowman, John Cena, AJ Styles and more.*Event CardMake the most of your NYC experience while you’re in town for WWE SummerSlam 2017! Check out the nycgo.com SummerSlam NYC Visitor Guide for exclusive deals and offers and official information about everything New York City has to offer.WWE SummerSlam HubSee the latest videos, photos and more!For hotel information, please visit New York Marriott at the Brooklyn Bridge. For special rates, check “corporate/promotional code” and then enter W85.*Card is subject to change.
END:VEVENT
END:VCALENDAR