BEGIN:VCALENDAR
VERSION:2.0
PRODID:-//hacksw/handcal//NONSGML v1.0//EN
BEGIN:VEVENT
DTSTAMP:20260807T000000Z
DTSTART:20260807T000000Z
DTEND:20260807T020000Z

SUMMARY:YOASOBI
DESCRIPTION:YOASOBI brings the Never Ending Stories Tour to Brooklyn on August 6.
END:VEVENT
END:VCALENDAR